Workbook
Name __xlnm._FilterDatabase: '6-7 třída DÍVKY'!$A$3:$H$33
Name __xlnm._FilterDatabase: '6-7 třída KLUCI'!$A$3:$I$65
Name __xlnm._FilterDatabase: '8-9 třída DÍVKY'!$A$3:$H$48
Name __xlnm._FilterDatabase: '8-9 třída KLUCI'!$A$3:$H$62
Name __xlnm._FilterDatabase: 'Zkratky ZŠ'!$A$3:$D$12

Sheet 6-7 třída DÍVKY
A1: Memorial JUDr. Ferdinanda Bušty 6-7 třída žákyně
A3: St. číslo | B3: Příjmení | C3: Jméno | D3: Datum narození | E3: Škola | F3: Čas | G3: Pořadí | H3: Body
A4: 1 | B4: Dražanová | C4: Ester | E4: BOR | F4: 00:08:47.50 | G4: 1 | H4: =VLOOKUP(G4,'Bodovací tabulka'!$A$2:$B$31,2,0) -> 60
A5: 26 | B5: Trníková | C5: Karolína | E5: REC | F5: 00:08:53.94 | G5: 2 | H5: =VLOOKUP(G5,'Bodovací tabulka'!$A$2:$B$31,2,0) -> 50
A6: 8 | B6: Vičarová | C6: Hana | E6: HRA | F6: 00:08:59.73 | G6: 3 | H6: =VLOOKUP(G6,'Bodovací tabulka'!$A$2:$B$31,2,0) -> 45
A7: 28 | B7: Korunková | C7: Ella | E7: SUC | F7: 00:09:12.22 | G7: 4 | H7: =VLOOKUP(G7,'Bodovací tabulka'!$A$2:$B$31,2,0) -> 40 | J7: Body ZŠ celkem | K7: Součet
A8: 3 | B8: Němcová | C8: Tereza | E8: BOR | F8: 00:09:29.99 | G8: 5 | H8: =VLOOKUP(G8,'Bodovací tabulka'!$A$2:$B$31,2,0) -> 35 | J8: SUC | K8: =SUMIFS(H4:H33,E4:E33,"SUC",H4:H33,">0") -> 75
A9: 12 | B9: Řimnáčová | C9: Štěpánka | E9: CHL | F9: 00:09:32.94 | G9: 6 | H9: =VLOOKUP(G9,'Bodovací tabulka'!$A$2:$B$31,2,0) -> 30 | J9: RAP | K9: =SUMIFS(H4:H33,E4:E33,"RAP",H4:H33,">0") -> 0
A10: 24 | B10: Pluhaříková | C10: Kristýna | E10: REC | F10: 00:09:36.41 | G10: 7 | H10: =VLOOKUP(G10,'Bodovací tabulka'!$A$2:$B$31,2,0) -> 28 | J10: REC | K10: =SUMIFS(H4:H33,E4:E33,"REC",H4:H33,">0") -> 102
A11: 18 | B11: Chrtová | C11: Denisa | E11: LOM | F11: 00:09:44.10 | G11: 8 | H11: =VLOOKUP(G11,'Bodovací tabulka'!$A$2:$B$31,2,0) -> 26 | J11: HRA | K11: =SUMIFS(H4:H33,E4:E33,"HRA",H4:H33,">0") -> 55
A12: 25 | B12: Strapková | C12: Květa | E12: REC | F12: 00:09:44.31 | G12: 9 | H12: =VLOOKUP(G12,'Bodovací tabulka'!$A$2:$B$31,2,0) -> 24 | J12: LOM | K12: =SUMIFS(H4:H33,E4:E33,"LOM",H4:H33,">0") -> 82
A13: 33 | B13: Kramárová | C13: Natálie | E13: ZDA | F13: 00:09:45.86 | G13: 10 | H13: =VLOOKUP(G13,'Bodovací tabulka'!$A$2:$B$31,2,0) -> 22 | J13: ZDA | K13: =SUMIFS(H4:H33,E4:E33,"ZDA",H4:H33,">0") -> 30
A14: 29 | B14: Maděrová | C14: Adéla | E14: SUC | F14: 00:09:49.54 | G14: 11 | H14: =VLOOKUP(G14,'Bodovací tabulka'!$A$2:$B$31,2,0) -> 20 | J14: CHL | K14: =SUMIFS(H4:H33,E4:E33,"CHL",H4:H33,">0") -> 59
A15: 14 | B15: Vondrková | C15: Anna | E15: LOM | F15: 00:09:56.45 | G15: 12 | H15: =VLOOKUP(G15,'Bodovací tabulka'!$A$2:$B$31,2,0) -> 19 | J15: TRE | K15: =SUMIFS(H4:H33,E4:E33,"TRE",H4:H33,">0") -> 0
A16: 5 | B16: Birešová | C16: Michaela | E16: BOR | F16: 00:10:00.83 | G16: 13 | H16: =VLOOKUP(G16,'Bodovací tabulka'!$A$2:$B$31,2,0) -> 18 | J16: BOR | K16: =SUMIFS(H4:H33,E4:E33,"BOR",H4:H33,">0") -> 145
A17: 6 | B17: Mikolášová | C17: Anna | E17: BOR | F17: 00:10:05.38 | G17: 14 | H17: =VLOOKUP(G17,'Bodovací tabulka'!$A$2:$B$31,2,0) -> 17 | J17: NER | K17: =SUMIFS(H4:H33,E4:E33,"NER",H4:H33,">0") -> 16
A18: 11 | B18: Pašková | C18: Karla | E18: CHL | F18: 00:10:09.39 | G18: 15 | H18: =VLOOKUP(G18,'Bodovací tabulka'!$A$2:$B$31,2,0) -> 16
A19: 4 | B19: Birešová | C19: Marcela | E19: BOR | F19: 00:10:12.62 | G19: 16 | H19: =VLOOKUP(G19,'Bodovací tabulka'!$A$2:$B$31,2,0) -> 15
A20: 16 | B20: Zajícová | C20: Adéla | E20: LOM | F20: 00:10:24.44 | G20: 17 | H20: =VLOOKUP(G20,'Bodovací tabulka'!$A$2:$B$31,2,0) -> 14
A21: 13 | B21: Školková | C21: Anna | E21: CHL | F21: 00:10:40.04 | G21: 18 | H21: =VLOOKUP(G21,'Bodovací tabulka'!$A$2:$B$31,2,0) -> 13
A22: 19 | B22: Šimánková | C22: Sofie | E22: LOM | F22: 00:10:46.33 | G22: 19 | H22: =VLOOKUP(G22,'Bodovací tabulka'!$A$2:$B$31,2,0) -> 12
A23: 2 | B23: Černá | C23: Marie | E23: BOR | F23: 00:10:48.15 | G23: 20
A24: 17 | B24: Jandová | C24: Tereza | E24: LOM | F24: 00:10:49.28 | G24: 21 | H24: 11
A25: 7 | B25: Šimková | C25: Nela | E25: HRA | F25: 00:10:53.22 | G25: 22 | H25: 10
A26: 27 | B26: Bendová | C26: Julie | E26: SUC | F26: 00:11:06.11 | G26: 23 | H26: 9
A27: 32 | B27: Mokrá | C27: Kateřina | E27: ZDA | F27: 00:11:24.48 | G27: 24 | H27: 8
A28: 22 | B28: Váchová | C28: Veronika | E28: NER | F28: 00:11:51.79 | G28: 25 | H28: 7
A29: 30 | B29: Titova | C29: Lilia | E29: SUC | F29: 00:11:55.86 | G29: 26 | H29: 6
A30: 23 | B30: Jakubcová | C30: Eliška | E30: NER | F30: 00:11:58.00 | G30: 27 | H30: 5
A31: 21 | B31: Cíková | C31: Michaela | E31: NER | F31: 00:13:16.28 | G31: 28 | H31: 4

Sheet 6-7 třída KLUCI
A1: Memorial JUDr. Ferdinanda Bušty 6-7 třída žáci
A3: St. číslo | B3: Příjmení | C3: Jméno | D3: Datum narození | E3: Škola | F3: Čas | G3: Pořadí | H3: Body
A4: 35 | B4: Mikoláš | C4: Jan | E4: BOR | F4: 00:08:01.09 | G4: 1 | H4: =VLOOKUP(G4,'Bodovací tabulka'!$A$2:$B$31,2,0) -> 60
A5: 52 | B5: Pršanec | C5: Tadeáš | E5: LOM | F5: 00:08:06.30 | G5: 2 | H5: =VLOOKUP(G5,'Bodovací tabulka'!$A$2:$B$31,2,0) -> 50
A6: 34 | B6: Bireš | C6: Karel | E6: BOR | F6: 00:08:07.70 | G6: 3 | H6: =VLOOKUP(G6,'Bodovací tabulka'!$A$2:$B$31,2,0) -> 45
A7: 38 | B7: Skořepa | C7: Lukáš | E7: BOR | F7: 00:08:09.46 | G7: 4 | H7: =VLOOKUP(G7,'Bodovací tabulka'!$A$2:$B$31,2,0) -> 40 | J7: Body ZŠ celkem | K7: Součet
A8: 60 | B8: Trnka | C8: Pavel | E8: NER | F8: 00:08:10.89 | G8: 5 | H8: =VLOOKUP(G8,'Bodovací tabulka'!$A$2:$B$31,2,0) -> 35 | J8: SUC | K8: =SUMIFS(H4:H61,E4:E61,"SUC",H4:H61,">0") -> 47
A9: 44 | B9: Ondřasina | C9: Václav | E9: HRA | F9: 00:08:13.00 | G9: 6 | H9: =VLOOKUP(G9,'Bodovací tabulka'!$A$2:$B$31,2,0) -> 30 | J9: RAP | K9: =SUMIFS(H4:H61,E4:E61,"RAP",H4:H61,">0") -> 32
A10: 74 | B10: Smolík | C10: Ondřej | E10: REC | F10: 00:08:13.19 | G10: 7 | H10: =VLOOKUP(G10,'Bodovací tabulka'!$A$2:$B$31,2,0) -> 28 | J10: REC | K10: =SUMIFS(H4:H61,E4:E61,"REC",H4:H61,">0") -> 43
A11: 67 | B11: Švec | C11: Matěj | E11: RAP | F11: 00:08:13.75 | G11: 8 | H11: =VLOOKUP(G11,'Bodovací tabulka'!$A$2:$B$31,2,0) -> 26 | J11: HRA | K11: =SUMIFS(H4:H61,E4:E61,"HRA",H4:H61,">0") -> 43
A12: 76 | B12: Blafka | C12: Daniel | E12: SUC | F12: 00:08:13.80 | G12: 9 | H12: =VLOOKUP(G12,'Bodovací tabulka'!$A$2:$B$31,2,0) -> 24 | J12: LOM | K12: =SUMIFS(H4:H61,E4:E61,"LOM",H4:H61,">0") -> 75
A13: 46 | B13: Fučík | C13: Martin | E13: CHL | F13: 00:08:13.96 | G13: 10 | H13: =VLOOKUP(G13,'Bodovací tabulka'!$A$2:$B$31,2,0) -> 22 | J13: ZDA | K13: =SUMIFS(H4:H61,E4:E61,"ZDA",H4:H61,">0") -> 29
A14: 53 | B14: Štěpán | C14: Adam | E14: LOM | F14: 00:08:15.93 | G14: 11 | H14: =VLOOKUP(G14,'Bodovací tabulka'!$A$2:$B$31,2,0) -> 20 | J14: CHL | K14: =SUMIFS(H4:H61,E4:E61,"CHL",H4:H61,">0") -> 70
A15: 49 | B15: Stojaspal | C15: Denis | E15: CHL | F15: 00:08:17.12 | G15: 12 | H15: =VLOOKUP(G15,'Bodovací tabulka'!$A$2:$B$31,2,0) -> 19 | J15: TRE | K15: =SUMIFS(H4:H61,E4:E61,"TRE",H4:H61,">0") -> 0
A16: 47 | B16: Mairich | C16: Daniel | E16: CHL | F16: 00:08:18.41 | G16: 13 | H16: =VLOOKUP(G16,'Bodovací tabulka'!$A$2:$B$31,2,0) -> 18 | J16: BOR | K16: =SUMIFS(H4:H61,E4:E61,"BOR",H4:H61,">0") -> 165
A17: 101 | B17: Janů | C17: Jiří | E17: ZDA | F17: 00:08:21.09 | G17: 14 | H17: =VLOOKUP(G17,'Bodovací tabulka'!$A$2:$B$31,2,0) -> 17 | J17: NER | K17: =SUMIFS(H4:H61,E4:E61,"NER",H4:H61,">0") -> 66
A18: 59 | B18: Paroubek | C18: Vojtěch | E18: NER | F18: 00:08:21.32 | G18: 15 | H18: =VLOOKUP(G18,'Bodovací tabulka'!$A$2:$B$31,2,0) -> 16
A19: 71 | B19: Michl | C19: Mikuláš | E19: REC | F19: 00:08:22.64 | G19: 16 | H19: =VLOOKUP(G19,'Bodovací tabulka'!$A$2:$B$31,2,0) -> 15
A20: 55 | B20: Dušek | C20: Jiří | E20: NER | F20: 00:08:24.13 | G20: 17 | H20: =VLOOKUP(G20,'Bodovací tabulka'!$A$2:$B$31,2,0) -> 14
A21: 40 | B21: Černý | C21: Adam | E21: HRA | F21: 00:08:25.33 | G21: 18 | H21: =VLOOKUP(G21,'Bodovací tabulka'!$A$2:$B$31,2,0) -> 13
A22: 99 | B22: Ganzwohl | C22: Zdeněk | E22: ZDA | F22: 00:08:28.87 | G22: 19 | H22: =VLOOKUP(G22,'Bodovací tabulka'!$A$2:$B$31,2,0) -> 12
A23: 37 | B23: Picek | C23: Ondřej | E23: BOR | F23: 00:08:32.28 | G23: 20 | H23: =VLOOKUP(G23,'Bodovací tabulka'!$A$2:$B$31,2,0) -> 11
A24: 87 | B24: Lakatoš | C24: Dominik | E24: SUC | F24: 00:08:35.24 | G24: 21 | H24: =VLOOKUP(G24,'Bodovací tabulka'!$A$2:$B$31,2,0) -> 10
A25: 36 | B25: Pengrác | C25: Adam | E25: BOR | F25: 00:08:37.47 | G25: 22 | H25: =VLOOKUP(G25,'Bodovací tabulka'!$A$2:$B$31,2,0) -> 9
A26: 50 | B26: Vochozka | C26: Lukáš | E26: CHL | F26: 00:08:39.67 | G26: 23 | H26: =VLOOKUP(G26,'Bodovací tabulka'!$A$2:$B$31,2,0) -> 8
A27: 95 | B27: Šimečka | C27: Robin | E27: SUC | F27: 00:08:41.36 | G27: 24 | H27: =VLOOKUP(G27,'Bodovací tabulka'!$A$2:$B$31,2,0) -> 7
A28: 63 | B28: Kolář | C28: Jakub | E28: RAP | F28: 00:08:43.07 | G28: 25 | H28: =VLOOKUP(G28,'Bodovací tabulka'!$A$2:$B$31,2,0) -> 6
A29: 54 | B29: Vala | C29: Vojtěch | E29: LOM | F29: 00:08:43.16 | G29: 26 | H29: =VLOOKUP(G29,'Bodovací tabulka'!$A$2:$B$31,2,0) -> 5
... A32: 82 | B32: Hychka | C32: Yevhenii | E32: SUC | F32: 00:08:47.99 | G32: 29 | H32: =VLOOKUP(G32,'Bodovací tabulka'!$A$2:$B$31,2,0) -> 2
A33: 92 | B33: Průša | C33: Radim | E33: SUC | F33: 00:08:49.96 | G33: 30
A34: 57 | B34: Jankovský | C34: Adam | E34: NER | F34: 00:08:54.24 | G34: 31 | H34: 1
A35: 62 | B35: Gunár | C35: Markus | E35: RAP | F35: 00:08:57.97 | G35: 32
A36: 100 | B36: Holenář | C36: Jan | E36: ZDA | F36: 00:09:03.90 | G36: 33
A37: 78 | B37: Bracháček | C37: Tadeáš | E37: SUC | F37: 00:09:10.35 | G37: 34
A38: 43 | B38: Nedvěd | C38: Matyáš | E38: HRA | F38: 00:09:10.96 | G38: 35
A39: 81 | B39: Hadač | C39: Jaroslav | E39: SUC | F39: 00:09:15.93 | G39: 36
A40: 97 | B40: Vochozka | C40: Michal | E40: SUC | F40: 00:09:18.18 | G40: 37
A41: 85 | B41: Krása | C41: Lukáš | E41: SUC | F41: 00:09:19.21 | G41: 38
A42: 39 | B42: Skřičil | C42: František | E42: BOR | F42: 00:09:25.54 | G42: 39
A43: 84 | B43: Kotelianets | C43: Kirylo | E43: SUC | F43: 00:09:26.55 | G43: 40
...

Sheet 8-9 třída DÍVKY
A1: Memorial JUDr. Ferdinanda Bušty 8- 9 třída kadetky
A3: St. číslo | B3: Příjmení | C3: Jméno | D3: Datum narození | E3: Škola | F3: Čas | G3: Pořadí | H3: Body
A4: 142 | B4: Červinková | C4: Veronika | E4: ZDA | F4: 00:15:50.52 | G4: 1 | H4: =VLOOKUP(G4,'Bodovací tabulka'!$A$2:$B$31,2,0) -> 60
A5: 140 | B5: Musiolová | C5: Andrea | E5: ZDA | F5: 00:16:08.68 | G5: 2 | H5: =VLOOKUP(G5,'Bodovací tabulka'!$A$2:$B$31,2,0) -> 50
A6: 138 | B6: Hrubá | C6: Nela | E6: ZDA | F6: 00:16:44.63 | G6: 3 | H6: =VLOOKUP(G6,'Bodovací tabulka'!$A$2:$B$31,2,0) -> 45
A7: 177 | B7: Rejhoncová | C7: Nela | E7: REC | F7: 00:16:44.84 | G7: 4 | H7: =VLOOKUP(G7,'Bodovací tabulka'!$A$2:$B$31,2,0) -> 40 | J7: Body ZŠ celkem | K7: Součet
A8: 141 | B8: Košťálová | C8: Barbora | E8: ZDA | F8: 00:16:47.23 | G8: 5 | H8: =VLOOKUP(G8,'Bodovací tabulka'!$A$2:$B$31,2,0) -> 35 | J8: SUC | K8: =SUMIFS(H4:H48,E4:E48,"SUC",H4:H48,">0") -> 91
A9: 128 | B9: Kopecká | C9: Lucie | E9: SUC | F9: 00:17:33.87 | G9: 6 | H9: =VLOOKUP(G9,'Bodovací tabulka'!$A$2:$B$31,2,0) -> 30 | J9: RAP | K9: =SUMIFS(H4:H48,E4:E48,"RAP",H4:H48,">0") -> 21
A10: 117 | B10: Vondrková | C10: Klára | E10: LOM | F10: 00:17:46.62 | G10: 7 | H10: =VLOOKUP(G10,'Bodovací tabulka'!$A$2:$B$31,2,0) -> 28 | J10: REC | K10: =SUMIFS(H4:H48,E4:E48,"REC",H4:H48,">0") -> 64
A11: 108 | B11: Mejdrechová | C11: Tereza | E11: BOR | F11: 00:18:07.60 | G11: 8 | H11: =VLOOKUP(G11,'Bodovací tabulka'!$A$2:$B$31,2,0) -> 26 | J11: HRA | K11: =SUMIFS(H4:H48,E4:E48,"HRA",H4:H48,">0") -> 14
A12: 105 | B12: Jenknerová | C12: Kateřina | E12: BOR | F12: 00:18:12.13 | G12: 9 | H12: =VLOOKUP(G12,'Bodovací tabulka'!$A$2:$B$31,2,0) -> 24 | J12: LOM | K12: =SUMIFS(H4:H48,E4:E48,"LOM",H4:H48,">0") -> 43
A13: 114 | B13: Němečková | C13: Adéla | E13: CHL | F13: 00:18:35.87 | G13: 10 | H13: =VLOOKUP(G13,'Bodovací tabulka'!$A$2:$B$31,2,0) -> 22 | J13: ZDA | K13: =SUMIFS(H4:H48,E4:E48,"ZDA",H4:H48,">0") -> 207
A14: 107 | B14: Němcová | C14: Šárka | E14: BOR | F14: 00:18:36.99 | G14: 11 | H14: =VLOOKUP(G14,'Bodovací tabulka'!$A$2:$B$31,2,0) -> 20 | J14: CHL | K14: =SUMIFS(H4:H48,E4:E48,"CHL",H4:H48,">0") -> 35
A15: 121 | B15: Hronová | C15: Nela | E15: REC | F15: 00:19:01.34 | G15: 12 | H15: =VLOOKUP(G15,'Bodovací tabulka'!$A$2:$B$31,2,0) -> 19 | J15: TRE | K15: =SUMIFS(H4:H48,E4:E48,"TRE",H4:H48,">0") -> 0
A16: 132 | B16: Pišanová | C16: Anežka | E16: SUC | F16: 00:19:04.18 | G16: 13 | H16: =VLOOKUP(G16,'Bodovací tabulka'!$A$2:$B$31,2,0) -> 18 | J16: BOR | K16: =SUMIFS(H4:H48,E4:E48,"BOR",H4:H48,">0") -> 89
A17: 143 | B17: Havelková | C17: Michaela | E17: ZDA | F17: 00:19:04.90 | G17: 14 | H17: =VLOOKUP(G17,'Bodovací tabulka'!$A$2:$B$31,2,0) -> 17 | J17: NER | K17: =SUMIFS(H4:H48,E4:E48,"NER",H4:H48,">0") -> 0
A18: 125 | B18: Dvořáčková | C18: Pavlína | E18: SUC | F18: 00:19:14.09 | G18: 15 | H18: =VLOOKUP(G18,'Bodovací tabulka'!$A$2:$B$31,2,0) -> 16
A19: 116 | B19: Nymsová | C19: Kateřina | E19: LOM | F19: 00:19:50.35 | G19: 16 | H19: =VLOOKUP(G19,'Bodovací tabulka'!$A$2:$B$31,2,0) -> 15
A20: 139 | B20: Svobodová | C20: Annie | E20: ZDA | F20: 00:20:03.92 | G20: 17
A21: 124 | B21: Deutschová | C21: Tereza | E21: SUC | F21: 00:20:06.05 | G21: 18 | H21: 14
A22: 133 | B22: Staňková | C22: Kristýna | E22: SUC | F22: 00:20:13.53 | G22: 19 | H22: 13
A23: 120 | B23: Hubálovská | C23: Jana | E23: RAP | F23: 00:20:15.14 | G23: 20 | H23: 12
A24: 109 | B24: Mikynová | C24: Eleonora | E24: BOR | F24: 00:20:23.70 | G24: 21 | H24: 11
A25: 111 | B25: Plucarová | C25: Klára | E25: HRA | F25: 00:20:31.01 | G25: 22 | H25: 10
A26: 119 | B26: Vaňátková | C26: Kateřina | E26: RAP | F26: 00:20:34.76 | G26: 23 | H26: 9
A27: 135 | B27: Utěšená | C27: Michaela | E27: SUC | F27: 00:21:20.52 | G27: 24
A28: 110 | B28: Šmausová | C28: Natálie | E28: BOR | F28: 00:21:23.23 | G28: 25 | H28: 8
A29: 113 | B29: Jindrová | C29: Stela | E29: CHL | F29: 00:21:26.30 | G29: 26 | H29: 7
A30: 115 | B30: Řimnáčová | C30: Kateřina | E30: CHL | F30: 00:21:39.50 | G30: 27 | H30: 6
A31: 122 | B31: Špalová | C31: Kateřina | E31: REC | F31: 00:22:02.33 | G31: 28 | H31: 5
A32: 106 | B32: Skřičilová | C32: Tereza | E32: BOR | F32: 00:23:32.37 | G32: 29
A33: 129 | B33: Kropíková | C33: Tereza | E33: SUC | F33: 00:24:11.62 | G33: 30
A34: 112 | B34: Šmolová | C34: Lada | E34: HRA | F34: 00:24:24.80 | G34: 31 | H34: 4
B35: Cepáková | C35: Veronika | E35: SUC | F35: DNF | G35: DNF
B36: Hnanusová | C36: Emma | E36: SUC | F36: DNF | G36: DNF
B37: Kalátová | C37: Simona | E37: SUC | F37: DNF | G37: DNF
B38: Vacková | C38: Nela | E38: SUC | F38: DNF | G38: DNF

Sheet 8-9 třída KLUCI
A1: Memorial JUDr. Ferdinanda Bušty 8- 9 třída kadeti
A3: St. číslo | B3: Příjmení | C3: Jméno | D3: Datum narození | E3: Škola | F3: Čas | G3: Pořadí | H3: Body
A4: 183 | B4: Hamerník | C4: Karel Jaroslav | D4: Jaroslav | E4: SUC | F4: 00:15:15.38 | G4: 1 | H4: =VLOOKUP(G4,'Bodovací tabulka'!$A$2:$B$31,2,0) -> 60
A5: 206 | B5: Jelínek | C5: Jakub | E5: ZDA | F5: 00:15:44.18 | G5: 2 | H5: =VLOOKUP(G5,'Bodovací tabulka'!$A$2:$B$31,2,0) -> 50
A6: 188 | B6: Chemerys | C6: Tymofii | E6: SUC | F6: 00:15:44.79 | G6: 3 | H6: =VLOOKUP(G6,'Bodovací tabulka'!$A$2:$B$31,2,0) -> 45
A7: 147 | B7: Komenda | C7: Josef | E7: BOR | F7: 00:15:45.07 | G7: 4 | H7: =VLOOKUP(G7,'Bodovací tabulka'!$A$2:$B$31,2,0) -> 40 | J7: Body ZŠ celkem | K7: Součet
A8: 149 | B8: Němeček | C8: Jiří | E8: BOR | F8: 00:15:46.47 | G8: 5 | H8: =VLOOKUP(G8,'Bodovací tabulka'!$A$2:$B$31,2,0) -> 35 | J8: SUC | K8: =SUMIFS(H4:H63,E4:E63,"SUC",H4:H63,">0") -> 160
A9: 148 | B9: Lhotka | C9: Jiří | E9: BOR | F9: 00:15:49.73 | G9: 6 | H9: =VLOOKUP(G9,'Bodovací tabulka'!$A$2:$B$31,2,0) -> 30 | J9: RAP | K9: =SUMIFS(H4:H63,E4:E63,"RAP",H4:H63,">0") -> 12
A10: 208 | B10: Michut | C10: Radim | E10: ZDA | F10: 00:15:51.61 | G10: 7 | H10: =VLOOKUP(G10,'Bodovací tabulka'!$A$2:$B$31,2,0) -> 28 | J10: REC | K10: =SUMIFS(H4:H63,E4:E63,"REC",H4:H63,">0") -> 42
A11: 193 | B11: Kos | C11: Jakub | E11: SUC | F11: 00:15:52.08 | G11: 8 | H11: =VLOOKUP(G11,'Bodovací tabulka'!$A$2:$B$31,2,0) -> 26 | J11: HRA | K11: =SUMIFS(H4:H63,E4:E63,"HRA",H4:H63,">0") -> 0
A12: 171 | B12: Vágner | C12: Michal | E12: NER | F12: 00:15:52.17 | G12: 9 | H12: =VLOOKUP(G12,'Bodovací tabulka'!$A$2:$B$31,2,0) -> 24 | J12: LOM | K12: =SUMIFS(H4:H63,E4:E63,"LOM",H4:H63,">0") -> 30
A13: 144 | B13: Bazal | C13: Martin | E13: BOR | F13: 00:15:54.96 | G13: 10 | H13: =VLOOKUP(G13,'Bodovací tabulka'!$A$2:$B$31,2,0) -> 22 | J13: ZDA | K13: =SUMIFS(H4:H63,E4:E63,"ZDA",H4:H63,">0") -> 128
A14: 157 | B14: Holický | C14: Karel | E14: LOM | F14: 00:15:58.28 | G14: 11 | H14: =VLOOKUP(G14,'Bodovací tabulka'!$A$2:$B$31,2,0) -> 20 | J14: CHL | K14: =SUMIFS(H4:H63,E4:E63,"CHL",H4:H63,">0") -> 5
A15: 205 | B15: Homola | C15: Jiří | E15: ZDA | F15: 00:16:00.11 | G15: 12 | H15: =VLOOKUP(G15,'Bodovací tabulka'!$A$2:$B$31,2,0) -> 19 | J15: TRE | K15: =SUMIFS(H4:H63,E4:E63,"TRE",H4:H63,">0") -> 0
A16: 207 | B16: Klimeš | C16: Martin | E16: ZDA | F16: 00:16:03.58 | G16: 13 | H16: =VLOOKUP(G16,'Bodovací tabulka'!$A$2:$B$31,2,0) -> 18 | J16: BOR | K16: =SUMIFS(H4:H63,E4:E63,"BOR",H4:H63,">0") -> 138
A17: 176 | B17: Kolář | C17: Jan | E17: REC | F17: 00:16:09.21 | G17: 14 | H17: =VLOOKUP(G17,'Bodovací tabulka'!$A$2:$B$31,2,0) -> 17 | J17: NER | K17: =SUMIFS(H4:H63,E4:E63,"NER",H4:H63,">0") -> 55
A18: 175 | B18: Holub | C18: Daniel | E18: REC | F18: 00:16:13.25 | G18: 15 | H18: =VLOOKUP(G18,'Bodovací tabulka'!$A$2:$B$31,2,0) -> 16
A19: 187 | B19: Charvát | C19: Miroslav | E19: SUC | F19: 00:16:37.55 | G19: 16 | H19: =VLOOKUP(G19,'Bodovací tabulka'!$A$2:$B$31,2,0) -> 15
A20: 191 | B20: Juřík | C20: Matyáš | E20: SUC | F20: 00:16:37.57 | G20: 17 | H20: =VLOOKUP(G20,'Bodovací tabulka'!$A$2:$B$31,2,0) -> 14
A21: 209 | B21: Němec | C21: Luboš | E21: ZDA | F21: 00:16:45.33 | G21: 18 | H21: =VLOOKUP(G21,'Bodovací tabulka'!$A$2:$B$31,2,0) -> 13
A22: 201 | B22: Šuba | C22: Martin | E22: SUC | F22: 00:16:53.90 | G22: 19
A23: 202 | B23: Vrchota | C23: Jakub | E23: SUC | F23: 00:16:54.42 | G23: 20
A24: 167 | B24: Paroubek | C24: Ondřej | E24: NER | F24: 00:16:54.65 | G24: 21 | H24: 12
A25: 145 | B25: Hruška | C25: Filip | E25: BOR | F25: 00:16:54.84 | G25: 22 | H25: 11
A26: 173 | B26: Šťáva | C26: Marek | E26: RAP | F26: 00:16:59.11 | G26: 23 | H26: 10
A27: 178 | B27: Novák | C27: Hubert | E27: REC | F27: 00:17:06.75 | G27: 24 | H27: 9
A28: 189 | B28: Chládek | C28: Jakub | E28: SUC | F28: 00:17:08.53 | G28: 25
A29: 192 | B29: Kleveta | C29: Petr | E29: SUC | F29: 00:17:18.56 | G29: 26
A30: 182 | B30: Dvořák | C30: Vojtěch | E30: SUC | F30: 00:17:19.43 | G30: 27
A31: 165 | B31: Křivský | C31: Tobiáš | E31: NER | F31: 00:17:28.47 | G31: 28 | H31: 8
A32: 185 | B32: Hloušek | C32: Ondřej | E32: SUC | F32: 00:17:29.95 | G32: 29
A33: 158 | B33: Kopřiva | C33: Jan | E33: LOM | F33: 00:17:38.01 | G33: 30 | H33: 7
A34: 170 | B34: Šrom | C34: Jáchym | E34: NER | F34: 00:17:41.98 | G34: 31 | H34: 6
A35: 164 | B35: Andrejič | C35: Tadeáš | E35: NER | F35: 00:17:45.70 | G35: 32 | H35: 5
A36: 197 | B36: Ohnoutka | C36: Petr | E36: SUC | F36: 00:17:55.43 | G36: 33
A37: 204 | B37: Dolanský | C37: Jan | E37: ZDA | F37: 00:18:07.43 | G37: 34
A38: 155 | B38: Belanský | C38: Matyáš | E38: CHL | F38: 00:18:08.22 | G38: 35 | H38: 4
A39: 166 | B39: Löbl | C39: Matyáš | E39: NER | F39: 00:18:08.35 | G39: 36
A40: 190 | B40: Jindra | C40: Vojtěch | E40: SUC | F40: 00:18:11.20 | G40: 37
A41: 196 | B41: Nestával | C41: Matěj | E41: SUC | F41: 00:18:13.38 | G41: 38
...

Sheet Zkratky ZŠ
A1: Memorial JUDr. Ferdinanda Bušty výsledky soutěže škol
A3: Základní škola | B3: Zkratka/číslo | C3: Celkové bodové hodnocení ZŠ ( všechny skupiny ) | D3: Pořadí
A4: ZŠ Borovany | B4: BOR/10 | C4: ='6-7 třída DÍVKY'!K16+'6-7 třída KLUCI'!K16+'8-9 třída DÍVKY'!K16+'8-9 třída KLUCI'!K16 -> 537 | D4: 1
A5: ZŠ Žďár n/Sázavou | B5: ZDA/6 | C5: ='6-7 třída DÍVKY'!K13+'6-7 třída KLUCI'!K13+'8-9 třída DÍVKY'!K13+'8-9 třída KLUCI'!K13 -> 394 | D5: 2
A6: ZŠ Suchdol nad Lužnicí | B6: SUC/2 | C6: ='6-7 třída DÍVKY'!K8+'6-7 třída KLUCI'!K8+'8-9 třída DÍVKY'!K8+'8-9 třída KLUCI'!K8 -> 373 | D6: 3
A7: ZŠ Kardašova Řečice | B7: REC/3 | C7: ='6-7 třída DÍVKY'!K10+'6-7 třída KLUCI'!K10+'8-9 třída DÍVKY'!K10+'8-9 třída KLUCI'!K10 -> 251 | D7: 4
A8: ZŠ Lomnice n/Luž | B8: LOM/5 | C8: ='6-7 třída DÍVKY'!K12+'6-7 třída KLUCI'!K12+'8-9 třída DÍVKY'!K12+'8-9 třída KLUCI'!K12 -> 230 | D8: 5
A9: ZŠ Chlum u Třeboně | B9: CHL/8 | C9: ='6-7 třída DÍVKY'!K14+'6-7 třída KLUCI'!K14+'8-9 třída DÍVKY'!K14+'8-9 třída KLUCI'!K14 -> 169 | D9: 6
A10: ZŠ Nerudova České Budějovice | B10: NER/11 | C10: ='6-7 třída DÍVKY'!K17+'6-7 třída KLUCI'!K17+'8-9 třída DÍVKY'!K17+'8-9 třída KLUCI'!K17 -> 137 | D10: 7
A11: ZŠ J.Hradec I. | B11: HRA/4 | C11: ='6-7 třída DÍVKY'!K11+'6-7 třída KLUCI'!K11+'8-9 třída DÍVKY'!K11+'8-9 třída KLUCI'!K11 -> 112 | D11: 8
A12: ZŠ Rapšach | B12: RAP/1 | C12: ='6-7 třída DÍVKY'!K9+'6-7 třída KLUCI'!K9+'8-9 třída DÍVKY'!K9+'8-9 třída KLUCI'!K9 -> 65 | D12: 9
A13: Třeboň | B13: TRE/9 | C13: ='6-7 třída DÍVKY'!K15+'6-7 třída KLUCI'!K15+'8-9 třída DÍVKY'!K15+'8-9 třída KLUCI'!K15 -> 0

Sheet Bodovací tabulka
A1: Pořadí | B1: Body | E1: Pořadí | F1: Body
A2: 1 | B2: 60 | E2: 1 | F2: 60
A3: 2 | B3: 50 | E3: 2 | F3: 50
A4: 3 | B4: 45 | E4: 3 | F4: 45
A5: 4 | B5: 40 | E5: 4 | F5: 40
A6: 5 | B6: 35 | E6: 5 | F6: 35
A7: 6 | B7: 30
A8: 7 | B8: 28
A9: 8 | B9: 26
A10: 9 | B10: 24
A11: 10 | B11: 22
A12: 11 | B12: 20
A13: 12 | B13: 19
A14: 13 | B14: 18
A15: 14 | B15: 17
A16: 15 | B16: 16
A17: 16 | B17: 15
A18: 17 | B18: 14
... A31: 30 | B31: 1

Sheet import
A1: id | B1: race_id | C1: route_id | D1: bib | E1: tag | F1: lname | G1: fname | H1: gender | I1: year | J1: cat | K1: note | L1: team | M1: c1 | N1: c2 | O1: c3
A2: 1 | B2: 457 | C2: 1 | D2: 1 | E2: =_xlfn.CONCAT("ABCV-",D2) -> ABCV-1 | F2: Dražanová | G2: Ester | H2: F | I2: 1900 | J2: ZT6-7 | L2: BOR
A3: 2 | B3: 457 | C3: 1 | D3: 2 | E3: =_xlfn.CONCAT("ABCV-",D3) -> ABCV-2 | F3: Černá | G3: Marie | H3: F | I3: 1900 | J3: ZT6-7 | L3: BOR
A4: 3 | B4: 457 | C4: 1 | D4: 3 | E4: =_xlfn.CONCAT("ABCV-",D4) -> ABCV-3 | F4: Němcová | G4: Tereza | H4: F | I4: 1900 | J4: ZT6-7 | L4: BOR
A5: 4 | B5: 457 | C5: 1 | D5: 4 | E5: =_xlfn.CONCAT("ABCV-",D5) -> ABCV-4 | F5: Birešová | G5: Marcela | H5: F | I5: 1900 | J5: ZT6-7 | L5: BOR
A6: 5 | B6: 457 | C6: 1 | D6: 5 | E6: =_xlfn.CONCAT("ABCV-",D6) -> ABCV-5 | F6: Birešová | G6: Michaela | H6: F | I6: 1900 | J6: ZT6-7 | L6: BOR
A7: 6 | B7: 457 | C7: 1 | D7: 6 | E7: =_xlfn.CONCAT("ABCV-",D7) -> ABCV-6 | F7: Mikolášová | G7: Anna | H7: F | I7: 1900 | J7: ZT6-7 | L7: BOR
A8: 7 | B8: 457 | C8: 1 | D8: 7 | E8: =_xlfn.CONCAT("ABCV-",D8) -> ABCV-7 | F8: Šimková | G8: Nela | H8: F | I8: 1900 | J8: ZT6-7 | L8: HRA
A9: 8 | B9: 457 | C9: 1 | D9: 8 | E9: =_xlfn.CONCAT("ABCV-",D9) -> ABCV-8 | F9: Vičarová | G9: Hana | H9: F | I9: 1900 | J9: ZT6-7 | L9: HRA
A10: 9 | B10: 457 | C10: 1 | D10: 9 | E10: =_xlfn.CONCAT("ABCV-",D10) -> ABCV-9 | F10: Plachá | G10: Nikol | H10: F | I10: 1900 | J10: ZT6-7 | L10: HRA
A11: 10 | B11: 457 | C11: 1 | D11: 10 | E11: =_xlfn.CONCAT("ABCV-",D11) -> ABCV-10 | F11: Hořká | G11: Šárka | H11: F | I11: 1900 | J11: ZT6-7 | L11: HRA
A12: 11 | B12: 457 | C12: 1 | D12: 11 | E12: =_xlfn.CONCAT("ABCV-",D12) -> ABCV-11 | F12: Pašková | G12: Karla | H12: F | I12: 1900 | J12: ZT6-7 | L12: CHL
A13: 12 | B13: 457 | C13: 1 | D13: 12 | E13: =_xlfn.CONCAT("ABCV-",D13) -> ABCV-12 | F13: Řimnáčová | G13: Štěpánka | H13: F | I13: 1900 | J13: ZT6-7 | L13: CHL
... A200: 199 | B200: 457 | C200: 4 | D200: 209 | E200: =_xlfn.CONCAT("ABCV-",D200) -> ABCV-209 | F200: Němec | G200: Luboš | H200: M | I200: 1900 | J200: MT8-9 | L200: ZDA
